BEGIN:VCALENDAR
VERSION:2.0
PRODID:-//Dokumentenmanagement mit docuvita - ECPv6.11.0.1//NONSGML v1.0//EN
CALSCALE:GREGORIAN
METHOD:PUBLISH
X-WR-CALNAME:Dokumentenmanagement mit docuvita
X-ORIGINAL-URL:https://www.docuvita.ch
X-WR-CALDESC:Veranstaltungen im Dokumentenmanagement mit docuvita
REFRESH-INTERVAL;VALUE=DURATION:PT1H
X-Robots-Tag:noindex
X-PUBLISHED-TTL:PT1H
BEGIN:VTIMEZONE
TZID:Europe/Berlin
BEGIN:DAYLIGHT
TZOFFSETFROM:+0100
TZOFFSETTO:+0200
TZNAME:CEST
DTSTART:20240331T010000
END:DAYLIGHT
BEGIN:STANDARD
TZOFFSETFROM:+0200
TZOFFSETTO:+0100
TZNAME:CET
DTSTART:20241027T010000
END:STANDARD
BEGIN:DAYLIGHT
TZOFFSETFROM:+0100
TZOFFSETTO:+0200
TZNAME:CEST
DTSTART:20250330T010000
END:DAYLIGHT
BEGIN:STANDARD
TZOFFSETFROM:+0200
TZOFFSETTO:+0100
TZNAME:CET
DTSTART:20251026T010000
END:STANDARD
BEGIN:DAYLIGHT
TZOFFSETFROM:+0100
TZOFFSETTO:+0200
TZNAME:CEST
DTSTART:20260329T010000
END:DAYLIGHT
BEGIN:STANDARD
TZOFFSETFROM:+0200
TZOFFSETTO:+0100
TZNAME:CET
DTSTART:20261025T010000
END:STANDARD
END:VTIMEZONE
BEGIN:VEVENT
DTSTART;TZID=Europe/Berlin:20260326T083000
DTEND;TZID=Europe/Berlin:20260326T130000
DTSTAMP:20260425T000125
CREATED:20210121T123429Z
LAST-MODIFIED:20251222T112618Z
UID:6450-1774513800-1774530000@www.docuvita.ch
SUMMARY:Modul 5 – Einführung Workflow
DESCRIPTION:Sie lernen die grundsätzliche Funktionsweise von Workflows in docuvita kennen und kleine Beispielworkflows mit dem Workflowdesigner. \nInhalt\n\nGrundsätzliche Funktionsweise von Workflows in docuvita\nStartmöglichkeiten von Workflows\nVerwendung von Workflowrollen\nGestaltung von Benutzeraufgaben\n\nGestaltung von Benutzerformularen\nEingabevalidierung\n\n\nVerwendung von automatischen Aufgaben\n\nObjekteigenschaften aktualisieren\nObjekte verschieben\nObjekttype ändern\nStatusänderung\nE-Mailversand\n\n\nAusblick: ScriptAction und WorkflowActionHost\n\nVoraussetzungen\n\ndocuvita Partnerstufe: Servicepartner\nEmpfohlen: Teilnahme an Modul 1 – Systemvoraussetzungen\, Installation & docuvita.Admin\nEmpfohlen: Teilnahme an Modul 3 – Automatisierte Importstrecken (AutoProfiler)\nTeilnahme an Modul 2 – Objekttypen\, Regeln\, Rechte und Benutzerverwaltung\nEin Arbeitsplatz mit funktionsfähigem Microsoft Remote Desktop Client (Verbindungen zu Port 3389 müssen in das Internet aufgebaut werden können) sowie Mikrofon und Kopfhörer oder ein Headset für die Kommunikation. Ein zweiter Monitor wird empfohlen\, um parallel dem Referenten folgen und selbst die beschriebenen Arbeitsschritte durchführen zu können.\n\nAnmeldeschluss / Kosten\n\nBeginn: 08:30 Uhr\, Ende: ca. 13:00 Uhr\nPreis je Teilnehmer: 99 € (zzgl. MwSt.)\nAnmeldeschluss: Dienstag\, 24.03.2026
URL:https://www.docuvita.ch/event/modul-5-einfuehrung-workflow/
LOCATION:Online
CATEGORIES:Schulungen
ORGANIZER;CN="docuvita GmbH & Co. KG":MAILTO:info(at)docuvita.de
END:VEVENT
BEGIN:VEVENT
DTSTART;TZID=Europe/Berlin:20260324T083000
DTEND;TZID=Europe/Berlin:20260324T130000
DTSTAMP:20260425T000125
CREATED:20201029T103158Z
LAST-MODIFIED:20251222T112653Z
UID:6452-1774341000-1774357200@www.docuvita.ch
SUMMARY:Modul 4 – Die docuvita Clients (Web\, Windows und Mobile)
DESCRIPTION:Sie lernen die unterschiedlichen Client-Varianten von docuvita kennen und bedienen. Dabei wird auf die Gemeinsamkeiten und Unterschiede der einzelnen Client-Varianten eingegangen und für welche Anwendungsfälle welcher Client am besten verwendet wird. An praxisnahen Beispielen lernen Sie die Interaktion mit Windows\, den Office-Programmen sowie der Scanschnittstelle kennen. \nInhalt\n\nUnterscheidung der Client-Varianten\nVerbindungsaufbau\nArbeiten mit dem WinClient\nAnsichten\nObjekttypen und Arbeitsmappen (Auffrischung)\nImportieren\nVersionieren\nEigenschaften ändern\nTyp ändern\nClickProfiler\nVerknüpfungen\nStapelimport\nScannen\nHeften\nFavoriten\nOffice-Integration\nEingangskorb\ndocuvita Drucker\nE-Mails\nSuchfunktionen\nStandard-Workflows\nExport\nLöschmarkierung und Löschlauf\nStartparameter und Tastenkombinationen\ndvRunQuery\n\nVoraussetzungen\n\ndocuvita Partnerstufe: Servicepartner\nKenntnisse in der Windows-Administration\nEin Arbeitsplatz mit funktionsfähigem Microsoft Remote Desktop Client (Verbindungen zu Port 3389 müssen in das Internet aufgebaut werden können) sowie Mikrofon und Kopfhörer oder ein Headset für die Kommunikation. Ein zweiter Monitor wird empfohlen\, um parallel dem Referenten folgen und selbst die beschriebenen Arbeitsschritte durchführen zu können.\n\nAnmeldeschluss / Kosten\n\nBeginn: 08:30 Uhr\, Ende: ca. 13:00 Uhr\nPreis je Teilnehmer: 99 € (zzgl. MwSt.)\nAnmeldeschluss: Freitag\, 20.03.2026
URL:https://www.docuvita.ch/event/modul-4-die-docuvita-clients-web-windows-und-mobile/
LOCATION:Online
CATEGORIES:Schulungen
ORGANIZER;CN="docuvita GmbH & Co. KG":MAILTO:info(at)docuvita.de
END:VEVENT
BEGIN:VEVENT
DTSTART;TZID=Europe/Berlin:20260319T083000
DTEND;TZID=Europe/Berlin:20260319T130000
DTSTAMP:20260425T000125
CREATED:20210121T114650Z
LAST-MODIFIED:20251222T113347Z
UID:6451-1773909000-1773925200@www.docuvita.ch
SUMMARY:Modul 3b – Automatisierte Importstrecken (AutoProfiler) – Erweiterte Importszenarien
DESCRIPTION:Sie vertiefen Ihr Wissen darüber\, wie Sie mit dem docuvita.AutoProfiler diverse automatisierte Importszenarien abbilden können. Dazu gehört alles von den unterschiedlichen Verarbeitungsmöglichkeiten digitaler Belege\, wie sie z.B. von einem ERP-System erzeugt werden\, über mit Barcodes versehenen Scan-Dokumenten bis hin zu der automatisierten Archivierung von E-Mails. \nInhalt\n\nVertiefung der Inhalte von Modul 3a – Automatisierte Importstrecken aus dem Dateisystem und von E-Mails (AutoProfiler) – Einstieg und Überblick\nBeispielfälle:\n\nDateinamen verwenden\nDateiinhalt auslesen\nBarcodes auslesen\nDaten des E-Mailheaders nutzen\nSteuerdateien verwenden\n\n\nUmgang mit fehlgeschlagenen Importen\n\nVoraussetzungen\n\ndocuvita Partnerstufe: Servicepartner\nEmpfohlen: Teilnahme an Modul 1 – Systemvoraussetzungen\, Installation & docuvita.Admin\nTeilnahme an Modul 2 – Objekttypen\, Regeln\, Rechte und Benutzerverwaltung\nTeilnahme an Modul 3a – Automatisierte Importstrecken (AutoProfiler) – Einstieg und Überblick\nEin Arbeitsplatz mit funktionsfähigem Microsoft Remote Desktop Client (Verbindungen zu Port 3389 müssen in das Internet aufgebaut werden können) sowie Mikrofon und Kopfhörer oder ein Headset für die Kommunikation. Ein zweiter Monitor wird empfohlen\, um parallel dem Referenten folgen und selbst die beschriebenen Arbeitsschritte durchführen zu können.\n\nAnmeldeschluss / Kosten\n\nBeginn: 08:30 Uhr\, Ende: ca. 13:00 Uhr\nPreis je Teilnehmer: 99 € (zzgl. MwSt.)\nAnmeldeschluss: Dienstag\, 17.03.2026
URL:https://www.docuvita.ch/event/modul-3b-automatisierte-importstrecken/
LOCATION:Online
ORGANIZER;CN="docuvita GmbH & Co. KG":MAILTO:info(at)docuvita.de
END:VEVENT
BEGIN:VEVENT
DTSTART;TZID=Europe/Berlin:20260317T083000
DTEND;TZID=Europe/Berlin:20260317T130000
DTSTAMP:20260425T000125
CREATED:20201029T103155Z
LAST-MODIFIED:20251222T113417Z
UID:6453-1773736200-1773752400@www.docuvita.ch
SUMMARY:Modul 3a – Automatisierte Importstrecken (AutoProfiler) – Einstieg und Überblick
DESCRIPTION:Sie lernen die Grundlagen dazu\, wie Sie mit dem docuvita.AutoProfiler diverse automatisierte Importszenarien abbilden können. \nInhalt\n\nKonzeption des AutoProfilers\nUnterscheidung zwischen AutoProfiler und Import\nBasiskonfiguration und Arbeitsverzeichnisse\nDatei-Parser\nOperatoren / Fallunterscheidungen\nRegular Expressions\nVariablen\nODBC-Lookups\nScripting\nImport-Templates\nTest-Programme\nBeispielfälle:\n\nDateinamen verwenden\n\n\nImport-Administration\nUmgang mit fehlgeschlagenen Importen\n\nVoraussetzungen\n\ndocuvita Partnerstufe: Servicepartner\nEmpfohlen: Teilnahme an Modul 1 – Systemvoraussetzungen\, Installation & docuvita.Admin\nTeilnahme an Modul 2 – Objekttypen\, Regeln\, Rechte und Benutzerverwaltung\nEin Arbeitsplatz mit funktionsfähigem Microsoft Remote Desktop Client (Verbindungen zu Port 3389 müssen in das Internet aufgebaut werden können) sowie Mikrofon und Kopfhörer oder ein Headset für die Kommunikation. Ein zweiter Monitor wird empfohlen\, um parallel dem Referenten folgen und selbst die beschriebenen Arbeitsschritte durchführen zu können.\n\nAnmeldeschluss / Kosten\n\nBeginn: 08:30 Uhr\, Ende: ca. 13:00 Uhr\nPreis je Teilnehmer: 99 € (zzgl. MwSt.)\nAnmeldeschluss: Freitag\, 13.03.2026
URL:https://www.docuvita.ch/event/modul-3a-automatisierte-importstrecken/
LOCATION:Online
CATEGORIES:Schulungen
ORGANIZER;CN="docuvita GmbH & Co. KG":MAILTO:info(at)docuvita.de
END:VEVENT
BEGIN:VEVENT
DTSTART;TZID=Europe/Berlin:20260312T083000
DTEND;TZID=Europe/Berlin:20260312T083000
DTSTAMP:20260425T000125
CREATED:20201029T103152Z
LAST-MODIFIED:20251222T113443Z
UID:6454-1773304200-1773304200@www.docuvita.ch
SUMMARY:Modul 2 – Objekttypen\, Regeln\, Rechte und Benutzerverwaltung
DESCRIPTION:Sie lernen das Konzept der Objekttypen sowie der Regeln und Berechtigungen kennen\, um für Kundensysteme neue Objekttypen und Zugriffsrechte anlegen können. Zusätzlich wird in diesem Kontext die Benutzerverwaltung behandelt. \nInhalt\n\nTheoretische Erklärung des Konzeptes von Objekttypen\nAnlegen von Objekttypen\nRessourcen und ImageCreator\nEigenschaften von Objekttypen (Unterschied Standardfelder / individuelle Felder)\nVererbung von Eigenschaften\nErklärung der Mengendefinition für Regeln anhand der Suchfunktion(en)\nRegeln\nRechte\nBenutzerverwaltung (Benutzer anlegen und in Gruppen verknüpfen)\nLöschmarkierung und Löschlauf\nArbeitsmappen / SystemLink / LookupProvider\n\nVoraussetzungen\n\ndocuvita Partnerstufe: Servicepartner\nTeilnahme an Modul 1 – Systemvoraussetzungen\, Installation & docuvita.Admin\nEin Arbeitsplatz mit funktionsfähigem Microsoft Remote Desktop Client (Verbindungen zu Port 3389 müssen in das Internet aufgebaut werden können) sowie Mikrofon und Kopfhörer oder ein Headset für die Kommunikation. Ein zweiter Monitor wird empfohlen\, um parallel dem Referenten folgen und selbst die beschriebenen Arbeitsschritte durchführen zu können.\n\nAnmeldeschluss / Kosten\n\nBeginn: 08:30 Uhr\, Ende: ca. 13:00 Uhr\nPreis je Teilnehmer: 99 € (zzgl. MwSt.)\nAnmeldeschluss: Dienstag\, 10.03.2026
URL:https://www.docuvita.ch/event/modul-2-objekttypen-regeln-rechte-und-benutzerverwaltung/
LOCATION:Online
CATEGORIES:Schulungen
ORGANIZER;CN="docuvita GmbH & Co. KG":MAILTO:info(at)docuvita.de
END:VEVENT
BEGIN:VEVENT
DTSTART;TZID=Europe/Berlin:20260310T083000
DTEND;TZID=Europe/Berlin:20260310T130000
DTSTAMP:20260425T000125
CREATED:20201029T103149Z
LAST-MODIFIED:20251222T113514Z
UID:6455-1773131400-1773147600@www.docuvita.ch
SUMMARY:Modul 1 – Systemvoraussetzungen\, Installation & docuvita.Admin
DESCRIPTION:Sie lernen ein docuvita System zu installieren und systemseitig die initiale technische Konfiguration durchzuführen. Zusätzlich erfahren Sie alles über die grundsätzliche Funktionsweise in der Zusammenarbeit zwischen dem Betriebssystem\, einem Datenbanksystem und docuvita. Darüber hinaus lernen Sie die einzelnen Produktkomponenten sowie ihr Zusammenspiel untereinander und erste Maßnahmen zur Fehlersuche und Entstörung kennen. \nInhalt\n\nTheoretische Erläuterung der einzelnen Systemkomponenten\nDownloadquelle (Webshop/Portal)\nLizenzbestellung (Webshop/Portal)\nInstallation\ndocuvita.Admin\nAnmeldung über den WebClient\nInstallation des WinClients\nBasiszusammenhänge docuvita Konfiguration\, Datenbank und Dateisystem\nUpdate von docuvita\nVerwendung einer Microsoft SQL-Datenbank\n\nVoraussetzungen\n\ndocuvita Partnerstufe: Servicepartner\nKenntnisse in der Windows-Administration\nEin Arbeitsplatz mit funktionsfähigem Microsoft Remote Desktop Client (Verbindungen zu Port 3389 müssen in das Internet aufgebaut werden können) sowie Mikrofon und Kopfhörer oder ein Headset für die Kommunikation. Ein zweiter Monitor wird empfohlen\, um parallel dem Referenten folgen und selbst die beschriebenen Arbeitsschritte durchführen zu können.\n\nAnmeldeschluss / Kosten\n\nBeginn: 08:30 Uhr\, Ende: ca. 13:00 Uhr\nPreis je Teilnehmer: 99 € (zzgl. MwSt.)\nAnmeldeschluss: Freitag\, 06.03.2026
URL:https://www.docuvita.ch/event/modul-1-systemvoraussetzungen-installation-docuvita-admin/
LOCATION:Online
CATEGORIES:Schulungen
ORGANIZER;CN="docuvita GmbH & Co. KG":MAILTO:info(at)docuvita.de
END:VEVENT
BEGIN:VEVENT
DTSTART;TZID=Europe/Berlin:20260303T083000
DTEND;TZID=Europe/Berlin:20260303T130000
DTSTAMP:20260425T000125
CREATED:20201029T103148Z
LAST-MODIFIED:20260226T125832Z
UID:6456-1772526600-1772542800@www.docuvita.ch
SUMMARY:Vertriebstraining | ABGESAGT
DESCRIPTION:Lernen Sie die docuvita Produktpalette\, Einsatzszenarien sowie die Marktsituation und den Wettbewerb besser kennen und erarbeiten Sie erfolgreiche Verkaufsstrategien für Dokumentenmanagement-Projekte mit docuvita. \nInhalt\n\ndocuvita Produktpalette und Einsatzszenarien\nMarkt und Wettbewerbssituation\nKaufmännische Aspekte\nAktuelle Preisliste\nRechtliche Aspekte\nVerkaufsargumente\n\nVoraussetzungen\n\ndocuvita Partner\nEin Arbeitsplatz mit funktionsfähigem Mikrofon und Kopfhörer oder ein Headset für die Kommunikation.\n\nAnmeldeschluss / Kosten\n\nBeginn: 08:30 Uhr\, Ende: ca. 13:00 Uhr\nPreis je Teilnehmer: 99 € (zzgl. MwSt.)\nAnmeldeschluss: Freitag\, 27.02.2026
URL:https://www.docuvita.ch/event/vertriebstraining/
LOCATION:Online
CATEGORIES:Schulungen
ORGANIZER;CN="docuvita GmbH & Co. KG":MAILTO:info(at)docuvita.de
END:VEVENT
BEGIN:VEVENT
DTSTART;TZID=Europe/Berlin:20240920T090000
DTEND;TZID=Europe/Berlin:20240920T190000
DTSTAMP:20260425T000125
CREATED:20180723T071751Z
LAST-MODIFIED:20240123T080210Z
UID:6457-1726822800-1726858800@www.docuvita.ch
SUMMARY:docuvita Partnertag 2024
DESCRIPTION:docuvita informiert über Neuerungen am Produkt und der strategischen Ausrichtung. \nFreuen Sie sich außerdem auf spannende Beiträge unserer Partner und externen Redner. \nWeitere Informationen werden wir kurz vor der Veranstaltung bekannt geben.
URL:https://www.docuvita.ch/event/docuvita-partnertag-2024/
LOCATION:Frankfurt am Main\, Deutschland
CATEGORIES:Partnertag
ORGANIZER;CN="docuvita GmbH & Co. KG":MAILTO:info(at)docuvita.de
END:VEVENT
END:VCALENDAR